BEGIN:VCALENDAR
VERSION:2.0
PRODID:-//Pasadena Folk Music Society - ECPv6.15.20//NONSGML v1.0//EN
CALSCALE:GREGORIAN
METHOD:PUBLISH
X-WR-CALNAME:Pasadena Folk Music Society
X-ORIGINAL-URL:https://pasadenafolkmusicsociety.org
X-WR-CALDESC:Events for Pasadena Folk Music Society
REFRESH-INTERVAL;VALUE=DURATION:PT1H
X-Robots-Tag:noindex
X-PUBLISHED-TTL:PT1H
BEGIN:VTIMEZONE
TZID:America/Los_Angeles
BEGIN:DAYLIGHT
TZOFFSETFROM:-0800
TZOFFSETTO:-0700
TZNAME:PDT
DTSTART:20220313T100000
END:DAYLIGHT
BEGIN:STANDARD
TZOFFSETFROM:-0700
TZOFFSETTO:-0800
TZNAME:PST
DTSTART:20221106T090000
END:STANDARD
BEGIN:DAYLIGHT
TZOFFSETFROM:-0800
TZOFFSETTO:-0700
TZNAME:PDT
DTSTART:20230312T100000
END:DAYLIGHT
BEGIN:STANDARD
TZOFFSETFROM:-0700
TZOFFSETTO:-0800
TZNAME:PST
DTSTART:20231105T090000
END:STANDARD
BEGIN:DAYLIGHT
TZOFFSETFROM:-0800
TZOFFSETTO:-0700
TZNAME:PDT
DTSTART:20240310T100000
END:DAYLIGHT
BEGIN:STANDARD
TZOFFSETFROM:-0700
TZOFFSETTO:-0800
TZNAME:PST
DTSTART:20241103T090000
END:STANDARD
END:VTIMEZONE
BEGIN:VEVENT
DTSTART;TZID=America/Los_Angeles:20230211T160000
DTEND;TZID=America/Los_Angeles:20230211T180000
DTSTAMP:20260419T062527
CREATED:20230704T081513Z
LAST-MODIFIED:20230704T081513Z
UID:3011-1676131200-1676138400@pasadenafolkmusicsociety.org
SUMMARY:New John McCutcheon Series Starts February 11th
DESCRIPTION:Get in the mood for Valentine’s Day with a set of love songs from folk musician John McCutcheon this Saturday\, Feb. 11.  It’s the first in a new series of live-online concerts\, and discounted tickets are available for a four-show package. \nIf you caught any of McCutcheon’s online shows presented in alliance with our society  last year\, you know to expect musical mastery in a warm personal style. \nSaturday’s online concert\, “John McCutcheon: Love Songs!\,” will begin at 4 p.m. Pacific Time.  Ticket-holders can shift to another start time using unlimited replays within 48 hours after the live show.  You can get single-show or series tickets at this page. \nThe single-show standard price is $20 plus a $4.60 processing fee. For that\, click on the “Livestream Ticket” link underneath “Ticket Type.” The four-show “series pass” is $65 plus a $14.95 processing fee.
URL:https://pasadenafolkmusicsociety.org/event/new-john-mccutcheon-series-starts-february-11th/
LOCATION:Online
CATEGORIES:American Folk Music
END:VEVENT
END:VCALENDAR