BEGIN:VCALENDAR
VERSION:2.0
PRODID:-//Pasadena Folk Music Society - ECPv6.15.20//NONSGML v1.0//EN
CALSCALE:GREGORIAN
METHOD:PUBLISH
X-WR-CALNAME:Pasadena Folk Music Society
X-ORIGINAL-URL:https://pasadenafolkmusicsociety.org
X-WR-CALDESC:Events for Pasadena Folk Music Society
REFRESH-INTERVAL;VALUE=DURATION:PT1H
X-Robots-Tag:noindex
X-PUBLISHED-TTL:PT1H
BEGIN:VTIMEZONE
TZID:America/Los_Angeles
BEGIN:DAYLIGHT
TZOFFSETFROM:-0800
TZOFFSETTO:-0700
TZNAME:PDT
DTSTART:20240310T100000
END:DAYLIGHT
BEGIN:STANDARD
TZOFFSETFROM:-0700
TZOFFSETTO:-0800
TZNAME:PST
DTSTART:20241103T090000
END:STANDARD
BEGIN:DAYLIGHT
TZOFFSETFROM:-0800
TZOFFSETTO:-0700
TZNAME:PDT
DTSTART:20250309T100000
END:DAYLIGHT
BEGIN:STANDARD
TZOFFSETFROM:-0700
TZOFFSETTO:-0800
TZNAME:PST
DTSTART:20251102T090000
END:STANDARD
BEGIN:DAYLIGHT
TZOFFSETFROM:-0800
TZOFFSETTO:-0700
TZNAME:PDT
DTSTART:20260308T100000
END:DAYLIGHT
BEGIN:STANDARD
TZOFFSETFROM:-0700
TZOFFSETTO:-0800
TZNAME:PST
DTSTART:20261101T090000
END:STANDARD
END:VTIMEZONE
BEGIN:VEVENT
DTSTART;TZID=America/Los_Angeles:20250628T193000
DTEND;TZID=America/Los_Angeles:20250628T220000
DTSTAMP:20260424T043410
CREATED:20250227T231530Z
LAST-MODIFIED:20250322T023521Z
UID:4230-1751139000-1751148000@pasadenafolkmusicsociety.org
SUMMARY:Susie Glaze New Folk Ensemble
DESCRIPTION:PFMS is happy to announce The Susie Glaze New Folk Ensemble at Knox Presbyterian Church on June 28 at 7:30 pm. \n \nSusie Glaze has been honored to be included on the newly-released Compass Records tribute album “Dear Jean – Artists Celebrate Jean Ritchie” alongside such artists as Judy Collins\, Pete Seeger\, Janis Ian\, Tim O’Brien\, John McCutcheon\, Robin and Linda Williams and many more. \nThe ensemble consists of Susie Glaze (lead vocals / guitar / autoharp / mountain dulcimer)\, Steve Rankin (Mandolin / guitar / bouzouki / Deering Old Time Banjo / vocals)\, Mark Indictor (fiddle / vocals)\, and Fred Sanders (bass / vocals). \n\n“The best new band I’ve never heard of!” – Dan Crary\n“…one of the finest and most original Americana groups in California (or in the country for that matter).” No Depression\n“…does something with a song that only great singers can do…” KCSN\, Northridge\, CA\n“One of the most beautiful voices in bluegrass and folk music today.” KPFK’s FolkScene\n“Her singing is impressive at all ranges…” Bluegrass Unlimited\n“…with people like this to trust\, my music will go on living\, and soaring. And so will I.” -Jean Ritchie\n“The band is tight\, great picking\, and beautiful vocals and harmony.” KVMR\, Nevada City\, CA\n“She held the audience in the palm of her hand….” Scott Valley Bluegrass Festival\n\nPurchase Advance Tickets Online\nAdvance tickets are now available on Eventbrite. Tickets are $30 for Adults and $10 for Caltech Students and Youth through High School\, plus a handling fee set by Eventbrite.  Click here to purchase tickets.  \nOnce all tickets are sold\, you can choose to join the waitlist. If tickets become available due to cancellations or returns\, they are released to the first person on the waitlist\, who will have 24 hours to respond. As tickets are released\, email notices will go out sequentially to the next person in line. Waitlist position is determined by the time one joins it. \n\n\n\nWhy has PFMS switched to Eventbrite? Why are tickets not available at Caltech’s ticket office? Please read this message from our Board of Directors.\n\n\n\nTicket Sales At the Door\nIf tickets remain after the presale\, adult tickets will be available at the door for $35 and Caltech student or Youth tickets for $10\, both with no handling fee (cash or check only). Our box office will open at 7 pm.  We will post reminders if a concert is nearing sell out as happened with the Téada concert. \nReceive Immediate Notice of Ticket Sales: Follow PFMS on Eventbrite. You’ll be notified as soon as tickets go on sale for any of our future concerts. \nParking\nKnox Presbyterian Church is located at 225 S. Hill in Pasadena\, at the intersection of Hill Ave. and Del Mar Blvd. Please see the detailed parking information here.
URL:https://pasadenafolkmusicsociety.org/event/susie-glaze/
LOCATION:Knox Presbyterian Church\, 225 S. Hill Ave.\, Pasadena\, CA\, 91106\, United States
CATEGORIES:American Folk Music
END:VEVENT
END:VCALENDAR