BEGIN:VCALENDAR
VERSION:2.0
PRODID:-//Pasadena Folk Music Society - ECPv6.15.20//NONSGML v1.0//EN
CALSCALE:GREGORIAN
METHOD:PUBLISH
X-WR-CALNAME:Pasadena Folk Music Society
X-ORIGINAL-URL:https://pasadenafolkmusicsociety.org
X-WR-CALDESC:Events for Pasadena Folk Music Society
REFRESH-INTERVAL;VALUE=DURATION:PT1H
X-Robots-Tag:noindex
X-PUBLISHED-TTL:PT1H
BEGIN:VTIMEZONE
TZID:America/Los_Angeles
BEGIN:DAYLIGHT
TZOFFSETFROM:-0800
TZOFFSETTO:-0700
TZNAME:PDT
DTSTART:20250309T100000
END:DAYLIGHT
BEGIN:STANDARD
TZOFFSETFROM:-0700
TZOFFSETTO:-0800
TZNAME:PST
DTSTART:20251102T090000
END:STANDARD
BEGIN:DAYLIGHT
TZOFFSETFROM:-0800
TZOFFSETTO:-0700
TZNAME:PDT
DTSTART:20260308T100000
END:DAYLIGHT
BEGIN:STANDARD
TZOFFSETFROM:-0700
TZOFFSETTO:-0800
TZNAME:PST
DTSTART:20261101T090000
END:STANDARD
BEGIN:DAYLIGHT
TZOFFSETFROM:-0800
TZOFFSETTO:-0700
TZNAME:PDT
DTSTART:20270314T100000
END:DAYLIGHT
BEGIN:STANDARD
TZOFFSETFROM:-0700
TZOFFSETTO:-0800
TZNAME:PST
DTSTART:20271107T090000
END:STANDARD
END:VTIMEZONE
BEGIN:VEVENT
DTSTART;TZID=America/Los_Angeles:20260321T193000
DTEND;TZID=America/Los_Angeles:20260321T220000
DTSTAMP:20260421T063701
CREATED:20251003T012212Z
LAST-MODIFIED:20260304T010556Z
UID:4856-1774121400-1774130400@pasadenafolkmusicsociety.org
SUMMARY:Lúnasa “the hottest Irish acoustic band on the planet” on Mar 21
DESCRIPTION:We’ll be at a new venue – Westminster Presbyterian Church on N. Lake Ave.   Click to buy tickets now! Prices are $44.52 (including fee) for advance tickets\, and $45 at the door.  Caltech students and youth through high school can buy tickets for $12.51 (incl. fee) in advance or $10 at the door.  Parking information for this venue. \nNamed for an ancient Celtic harvest festival in honour of the Irish god Lugh\, Lúnasa was formed in 1997 from members of some of the greatest Irish groups of the previous decade\, an early review from Folk Roots magazine describing the band as an “Irish music dream team”. From the start\, the band’s complex arrangements and unique sound reshaped the boundaries of traditional music and energized audiences the world over. Critical acclaim followed. The Irish Echo described the band as the “the hottest Irish acoustic band on the planet”; MOJO magazine named the band “the new gods of Irish music\,” adding that “nobody since the Bothies has wielded such a thrilling rhythmic underlay.” Billboard raved that “anybody who listens can’t help but find them contagious.” \nHaving since sold over a quarter of a million records and performed over 2\,500 shows across 36 countries\, Lúnasa has won multiple awards and become one of the most influential bands in the history of traditional music. \nLúnasa’s current lineup includes Trevor Hutchinson\, bassist with The Waterboys; uilleann piper Cillian Vallely\, who toured with Riverdance and recorded with Bruce Springsteen; Kevin Crawford\, widely considered one of Ireland’s greatest flute players; award winning fiddler Colin Farrell and guitarist Ed Boyd\, known on the UK folk circuit for his work with bands such as Flook\, Kate Rusby\, and Cara Dillon. \nThe current tour highlights music from their Live in Kyoto album\, which was recorded live in the Taku Taku club in Kyoto\, Japan in Dec 2023.  “This is first class Irish music…. A cracker of an album\, well worth having” Living Tradition\, UK \nPerforming The Bull’s March and O’Carolan’s Tea from Live in Kyoto in Eugene\, Oregon \n \nLúnasa stops by WTJU Radio Charlottesville for an intimate live concert. \n \nLúnasa with founding member Donogh Hennessy perform Morning Nightcap live at Belfast TradFest 2024 \n \nArtist Social Media\n\nWebsite: https://www.lunasamusic.com/\nYoutube: https://www.youtube.com/user/Lunasafilms\nInstagram: https://www.instagram.com/lunasaband/\nFacebook: https://www.facebook.com/lunasaband/
URL:https://pasadenafolkmusicsociety.org/event/lunasa-mar-21-2026/
LOCATION:Westminster Presbyterian Church\, 1757 N. Lake Ave.\, Pasadena\, CA\, 91104\, United States
CATEGORIES:Celtic,Irish
ATTACH;FMTTYPE=image/avif:https://pasadenafolkmusicsociety.org/wp-content/uploads/2025/10/Lunasa-2.avif
END:VEVENT
END:VCALENDAR