BEGIN:VCALENDAR
VERSION:2.0
PRODID:-//Pasadena Folk Music Society - ECPv6.15.20//NONSGML v1.0//EN
CALSCALE:GREGORIAN
METHOD:PUBLISH
X-WR-CALNAME:Pasadena Folk Music Society
X-ORIGINAL-URL:https://pasadenafolkmusicsociety.org
X-WR-CALDESC:Events for Pasadena Folk Music Society
REFRESH-INTERVAL;VALUE=DURATION:PT1H
X-Robots-Tag:noindex
X-PUBLISHED-TTL:PT1H
BEGIN:VTIMEZONE
TZID:America/Los_Angeles
BEGIN:DAYLIGHT
TZOFFSETFROM:-0800
TZOFFSETTO:-0700
TZNAME:PDT
DTSTART:20250309T100000
END:DAYLIGHT
BEGIN:STANDARD
TZOFFSETFROM:-0700
TZOFFSETTO:-0800
TZNAME:PST
DTSTART:20251102T090000
END:STANDARD
BEGIN:DAYLIGHT
TZOFFSETFROM:-0800
TZOFFSETTO:-0700
TZNAME:PDT
DTSTART:20260308T100000
END:DAYLIGHT
BEGIN:STANDARD
TZOFFSETFROM:-0700
TZOFFSETTO:-0800
TZNAME:PST
DTSTART:20261101T090000
END:STANDARD
BEGIN:DAYLIGHT
TZOFFSETFROM:-0800
TZOFFSETTO:-0700
TZNAME:PDT
DTSTART:20270314T100000
END:DAYLIGHT
BEGIN:STANDARD
TZOFFSETFROM:-0700
TZOFFSETTO:-0800
TZNAME:PST
DTSTART:20271107T090000
END:STANDARD
END:VTIMEZONE
BEGIN:VEVENT
DTSTART;TZID=America/Los_Angeles:20261003T193000
DTEND;TZID=America/Los_Angeles:20261003T213000
DTSTAMP:20260421T134603
CREATED:20260326T233708Z
LAST-MODIFIED:20260327T003507Z
UID:5381-1791055800-1791063000@pasadenafolkmusicsociety.org
SUMMARY:Save Oct 3rd for Singer-songwriter Sarah McQuaid
DESCRIPTION:Sarah McQuaid’s lush\, velvety voice combines with her engaging personality and “brilliant musicianship” (fRoots) on acoustic and electric guitars\, keyboards and (occasionally) drum to create a truly immersive experience. Her live performances are full of warmth\, wit\, and intimacy\, and have earned her loyal followings on both sides of the Atlantic. \nBorn in Spain\, raised in Chicago\, holding dual Irish and American citizenship and now settled in rural England\, she brings the eclecticism of her background to her “captivating\, unorthodox songwriting” (PopMatters) and choice of material. From contemplative ballads to playful blues to atmospheric instrumentals\, Sarah’s music invites reflection\, connection\, and a deep appreciation of the quiet power of a well-crafted song. \nIn April 2017\, Sarah was presented with a Lifetime Achievement Award by the Ards International Guitar Festival in Newtownards\, Northern Ireland (previous recipients include legendary guitarists Davey Graham\, John Renbourn\, John Martyn\, Martin Simpson\, Pierre Bensusan and Martin Carthy) in recognition of her innovative use of DADGAD tuning and her authorship of the Irish DADGAD Guitar Book. Presenting the award\, Ernie McMillen of Avalon Guitars said “It is rare in the guitar world to find a player who displays genius without arrogance\, and who shares their hard-won skill and knowledge so selflessly. I get to see many specialist guitarists up close\, and many over-perform. It’s honey for the soul to witness Sarah McQuaid perform.” \n \nDetails are being finalized so stay tuned for event location and pricing. While you wait\, enjoy Sarah’s music on: \n\nWebsite sarahmcquaid.com/music\nYoutube www.youtube.com/channel/UCvf4HEYTqVkSpZKeVPm7AhQ\nBandcamp sarahmcquaid.bandcamp.com/\nSpotify open.spotify.com/artist/6AzQp7dotpkQ5aDu8CXBgM
URL:https://pasadenafolkmusicsociety.org/event/sarah-mcquaid-oct-3rd/
ATTACH;FMTTYPE=image/jpeg:https://pasadenafolkmusicsociety.org/wp-content/uploads/2026/03/sarahmcquaid-banner-photo.jpg
END:VEVENT
END:VCALENDAR