BEGIN:VCALENDAR
VERSION:2.0
PRODID:-//Pasadena Folk Music Society - ECPv6.15.20//NONSGML v1.0//EN
CALSCALE:GREGORIAN
METHOD:PUBLISH
X-ORIGINAL-URL:https://pasadenafolkmusicsociety.org
X-WR-CALDESC:Events for Pasadena Folk Music Society
REFRESH-INTERVAL;VALUE=DURATION:PT1H
X-Robots-Tag:noindex
X-PUBLISHED-TTL:PT1H
BEGIN:VTIMEZONE
TZID:America/Los_Angeles
BEGIN:DAYLIGHT
TZOFFSETFROM:-0800
TZOFFSETTO:-0700
TZNAME:PDT
DTSTART:20220313T100000
END:DAYLIGHT
BEGIN:STANDARD
TZOFFSETFROM:-0700
TZOFFSETTO:-0800
TZNAME:PST
DTSTART:20221106T090000
END:STANDARD
BEGIN:DAYLIGHT
TZOFFSETFROM:-0800
TZOFFSETTO:-0700
TZNAME:PDT
DTSTART:20230312T100000
END:DAYLIGHT
BEGIN:STANDARD
TZOFFSETFROM:-0700
TZOFFSETTO:-0800
TZNAME:PST
DTSTART:20231105T090000
END:STANDARD
BEGIN:DAYLIGHT
TZOFFSETFROM:-0800
TZOFFSETTO:-0700
TZNAME:PDT
DTSTART:20240310T100000
END:DAYLIGHT
BEGIN:STANDARD
TZOFFSETFROM:-0700
TZOFFSETTO:-0800
TZNAME:PST
DTSTART:20241103T090000
END:STANDARD
END:VTIMEZONE
BEGIN:VEVENT
DTSTART;VALUE=DATE:20230521
DTEND;VALUE=DATE:20230522
DTSTAMP:20260421T020915
CREATED:20230704T090626Z
LAST-MODIFIED:20230704T090626Z
UID:3028-1684627200-1684713599@pasadenafolkmusicsociety.org
SUMMARY:See You at the Topanga Banjo-Fiddle Contest and Folk Festival
DESCRIPTION:The Topanga Banjo-Fiddle Contest and Folk Festival will provide a fine opportunity for enjoying live music on Sunday\, May 21\, in the Santa Monica Mountains\, at Paramount Ranch near Agoura Hills.  Check out the schedule here and you’re bound to find much to your liking.  Besides the five stages with performers\, the festival offers music and dance workshops\, jamming\, food trucks\, artisans and a musical-instrument “petting zoo” for youngsters.  Contest will begin at 9 a.m.\, featured performers at noon. \nStop by and chat with us at our Pasadena Folk Music Society booth. We look forward to meeting with you and introducing our society. We’ve been presenting great performers on the Caltech campus in Pasadena since 1983.  Click on the links here to get an idea of some of the shows we have presented by artists from around the country\, across the Atlantic\, and right here in California.  Acoustic music is our specialty\, and we offer Celtic\, bluegrass\, singer/songwriters\, guitarists\, old time\, fiddlers\, harpers\, and much more.  Even if you live across town\, we hope to tempt you to come to shows in a few months.
URL:https://pasadenafolkmusicsociety.org/event/see-you-at-the-topanga-banjo-fiddle-contest-and-folk-festival/
LOCATION:Paramount Ranch\, 2903 Cornell Road\, Agoura Hills\, CA\, United States
CATEGORIES:Banjo Music,Fiddle Music
END:VEVENT
END:VCALENDAR