BEGIN:VCALENDAR
VERSION:2.0
PRODID:-//Pasadena Folk Music Society - ECPv6.15.20//NONSGML v1.0//EN
CALSCALE:GREGORIAN
METHOD:PUBLISH
X-ORIGINAL-URL:https://pasadenafolkmusicsociety.org
X-WR-CALDESC:Events for Pasadena Folk Music Society
REFRESH-INTERVAL;VALUE=DURATION:PT1H
X-Robots-Tag:noindex
X-PUBLISHED-TTL:PT1H
BEGIN:VTIMEZONE
TZID:America/Los_Angeles
BEGIN:DAYLIGHT
TZOFFSETFROM:-0800
TZOFFSETTO:-0700
TZNAME:PDT
DTSTART:20240310T100000
END:DAYLIGHT
BEGIN:STANDARD
TZOFFSETFROM:-0700
TZOFFSETTO:-0800
TZNAME:PST
DTSTART:20241103T090000
END:STANDARD
BEGIN:DAYLIGHT
TZOFFSETFROM:-0800
TZOFFSETTO:-0700
TZNAME:PDT
DTSTART:20250309T100000
END:DAYLIGHT
BEGIN:STANDARD
TZOFFSETFROM:-0700
TZOFFSETTO:-0800
TZNAME:PST
DTSTART:20251102T090000
END:STANDARD
BEGIN:DAYLIGHT
TZOFFSETFROM:-0800
TZOFFSETTO:-0700
TZNAME:PDT
DTSTART:20260308T100000
END:DAYLIGHT
BEGIN:STANDARD
TZOFFSETFROM:-0700
TZOFFSETTO:-0800
TZNAME:PST
DTSTART:20261101T090000
END:STANDARD
BEGIN:DAYLIGHT
TZOFFSETFROM:-0800
TZOFFSETTO:-0700
TZNAME:PDT
DTSTART:20270314T100000
END:DAYLIGHT
BEGIN:STANDARD
TZOFFSETFROM:-0700
TZOFFSETTO:-0800
TZNAME:PST
DTSTART:20271107T090000
END:STANDARD
END:VTIMEZONE
BEGIN:VEVENT
DTSTART;TZID=America/Los_Angeles:20260214T193000
DTEND;TZID=America/Los_Angeles:20260214T213000
DTSTAMP:20260423T021755
CREATED:20251002T232033Z
LAST-MODIFIED:20260201T002919Z
UID:4756-1771097400-1771104600@pasadenafolkmusicsociety.org
SUMMARY:Share Valentine's Day with Scottish Singer Jim Malcolm on Feb 14 2026
DESCRIPTION:After performing with Pasadena Folk Music Society for more than twenty years\, both with Old Blind Dogs and solo\, Jim is extremely fond of our organization and the wonderful spirit of our audiences\, and he’s delighted to be coming back. \nAs both singer and songwriter\, Jim Malcolm is one of the most distinctive voices in Scottish music\, “one of the finest singing voices in Scotland in any style”. He was lead singer of the phenomenal Scottish band Old Blind Dogs for seven years\, touring extensively throughout Europe and North America and playing at many of the biggest folk festivals. In 2004\, Jim was songwriter of the year in the Scots Trad Music Awards\, and he has been nominated three times for Scots Singer of the Year. He has a huge repertoire of songs from the Scottish tradition and is a noted interpreter of Burns. These old songs are complemented by his own original and award-­‐winning songs\, which are at once completely modern and accessible\, yet an authentic addition to the canon of  Scottish music. \nJim plays expressive guitar and simultaneously plays tunes on harmonicas to a standard you’ll seldom hear elsewhere. “Given the right song\, he’ll melt you in your seat\,” as one critic wrote. What’s more\, Jim’s between-­‐song wit has developed to an art form all of its own. Not to be missed! \n \n \n“One of the finest singing voices in Scotland in any style” Living Tradition \n“One of the most outstanding talents to have emerged through the Scottish folk scene in years: The Independent \n“A master of well-­‐chosen words and melodic inventiveness” Rock ‘n’ Reel magazine \nPurchase Advance Tickets Online\nThe concert will be Feb 14 at 7:30 PM at Knox Presbyterian Church. Advance tickets\, including fees\, are $33.85 for Adults and $12.51 for Caltech Students and Youth through High School.  Click here to purchase tickets.  \nOnce an event sells out\, Eventbrite has a waitlist function. If tickets become available due to cancellations or returns\, you will be notified by email. \nTicket Sales At the Door\nAfter the presale remaining tickets will be sold at the door – cash or check only. Adults will be $35 and Caltech students or Youth tickets $10\, both with no handling fee. Our box office will open at 6:45 PM. However\, entrance to the auditorium will depend on when the sound check is completed\, which varies from concert to concert. \n\n\n\n Pets and emotional support animals Are NOT ALLOWED\, no exceptions.  Registered Service animals are allowed under the Americans with Disabilities Act. If you plan to bring a registered service animal\, please notify us in advance at info@pasadenafolkmusicsociety.org\n\n\n\nParking\nKnox Church is located at 225 S. Hill in Pasadena\, at the intersection of Hill Ave. and Del Mar Blvd. Full information is available at this link. \nArtist Social Media\n\nWebsite: https://www.jimmalcolm.com/\nFacebook: https://www.facebook.com/jimmalcolmmusic/\nYoutube: https://www.youtube.com/channel/UCWmFc6wE6BRVuEO28GkYjNw\n\nFirst Notice of Our Events. Follow us on Eventbrite to be notified as soon as tickets go on sale for all future concerts. \nQuick Summary of Events. Follow us on Linktr.ee
URL:https://pasadenafolkmusicsociety.org/event/share-valentines-day-with-scottish-singer-jim-malcolm-on-feb-14-2026/
LOCATION:Knox Presbyterian Church\, 225 S. Hill Ave.\, Pasadena\, CA\, 91106\, United States
CATEGORIES:British Isles,Scottish Traditional
ATTACH;FMTTYPE=image/jpeg:https://pasadenafolkmusicsociety.org/wp-content/uploads/2025/10/Jim-Malcolm-WallLandscape-scaled.jpeg
END:VEVENT
BEGIN:VEVENT
DTSTART;TZID=America/Los_Angeles:20260110T193000
DTEND;TZID=America/Los_Angeles:20260110T213000
DTSTAMP:20260423T021755
CREATED:20250930T071027Z
LAST-MODIFIED:20251023T225352Z
UID:4754-1768073400-1768080600@pasadenafolkmusicsociety.org
SUMMARY:Coming Jan 10 2026: Amelia Hogan with the Flight Crew
DESCRIPTION:Amelia Hogan is an impeccably authentic singer of Celtic music and her heart comes through in honeyed tones on Irish\, Scottish\, British\, and American styled vocals. She sings in the Irish music tradition of Sean-Nós\, or “old style” as well as accompanied. Amelia also plays bodhran and a small 22 string Welsh lap harp\, and has toured internationally to global acclaim. \nShe sings both traditional and contemporary folk music with lilting graces and sublety\, weaving a mysterious old magic that takes the listener out of time and place. \n“A beautiful singer” – Niamh Parsons\, Parsons and Dunne \n“Real Music” – Chris Holloway\, The National Park Service \nShe has toured with Molly’s Revenge as their lead vocalist for the sensational Winterdance holiday tour and collaborates with artists including her groups Amhránaithe\, The Flight Crew\, Maureen Brennan\, Julie Henigan\, Niamh Parsons\, and Shay Black. \n  \nCheck out Little Yellow Roses from her studio album “Burnished”  released in April 2025. \n \nPurchase Advance Tickets Online\nThe concert will be Jan 10 at 7:30 PM at Knox Presbyterian Church. Now available on Eventbrite\, advance tickets including fees are $33.85 for Adults and $12.51 for Caltech Students and Youth through High School.  Click here to purchase tickets. \nOnce an event sells out\, Eventbrite has a waitlist function. If tickets become available due to cancellations or returns\, you will be notified by email. \nTicket Sales At the Door\nAfter the presale remaining tickets will be sold at the door – cash or check only. Adults will be $35 and Caltech students or Youth tickets $10\, both with no handling fee. Our box office will open at 6:45 PM. However\, entrance to the auditorium will depend on when the sound check is completed\, which varies from concert to concert. \n\n\n\n Pets and emotional support animals Are NOT ALLOWED\, no exceptions.  Registered Service animals are allowed under the Americans with Disabilities Act. If you plan to bring a registered service animal\, please notify us in advance at info@pasadenafolkmusicsociety.org\n\n\n\nParking\nKnox Church is located at 225 S. Hill in Pasadena\, at the intersection of Hill Ave. and Del Mar Blvd. Full information is available at this link. \nArtist Social Media\n\nWebsite: https://ameliahogan.com/about/\nFind music here: https://ameliahogan.bandcamp.com/\nInstagram: https://www.instagram.com/ameliahogansings/\nYoutube: https://www.youtube.com/@ameliaisaverb\n\nWant First Notice of Events? Follow us on Eventbrite to be notified as soon as tickets are available. \nWant a Quick Summary of Events? Follow us on Linktr.ee
URL:https://pasadenafolkmusicsociety.org/event/amelia-hogan-and-flight-crew/
LOCATION:Knox Presbyterian Church\, 225 S. Hill Ave.\, Pasadena\, CA\, 91106\, United States
CATEGORIES:British Isles,Celtic,Irish,Scottish Traditional
END:VEVENT
BEGIN:VEVENT
DTSTART;TZID=America/Los_Angeles:20251206T193000
DTEND;TZID=America/Los_Angeles:20251206T213000
DTSTAMP:20260423T021755
CREATED:20250805T212050Z
LAST-MODIFIED:20251028T024759Z
UID:4562-1765049400-1765056600@pasadenafolkmusicsociety.org
SUMMARY:A Joyful Seasonal Concert featuring Brocelïande on Dec 6th
DESCRIPTION:Brocelïande specialize in seasonal fare\, honoring the elements of Nature and celebrating the human experience\, and their delight is to uplift their audiences and provide a sonic sanctuary for a time. \nListen to Make We Merry\, which showcases the range of music\, languages\, and instruments they bring to their performances. \nSample Sir Christèmas\, a collection of traditional music for the winter holidays. You’ll find favorites such as Gaudete\, Abbots Bromley Horn Dance\, and Carol of the Birds. Or a new favorite like Entre le Boeuf/Noel Nouvelet.  All sung with their exquisite harmonies backed by a variety of instrumentals that evoke the season and the time-periods. \n“Broceliande — reminiscent of music from times past\, hearkening of an era of chivalry and nobility. Broceliande combines the past with the future with the artistry of four of the finest musicians on the West Coast.”  KKUP 91.5FM \n“It’s an understatement\, but I’ll say it anyway: these people are good. Each is a master of the various instruments they play\, and their arrangements are intricate\, exciting\, exceptional music … their vocal harmonies are exquisite.”   Rambles Cultural Arts Magazine \nBrocelïande play original arrangements of Celtic music from the British Isles and Medieval and Renaissance music of the courts and countrysides on Celtic harp\, guitar\, cello\, recorders\, octave mandolin\, nyckelharpa\, flute\, whistle\, percussion\, a 10-string hardanger cello d’amore (the only one in existence) and more! \nThe three members are well-known multi-instrumentalists and singers whose music includes upbeat dances\, lovely ballads\, and exciting a capella madrigals with evocative lyrics\, including some in Medieval French and Portuguese\, speak of love and longing\, quests and revels\, magic and transformation. \nMargaret Davis (Vocals\, Celtic Harp\, Flute\, Recorders) brings her academic knowledge of the music of the troubadours. She sings in French\, Medieval French\, Latin\, Provencal\, Gallician Portuguese\, Gaelic\, Spanish\, and English. \nKristoph Klover (Vocals\, Guitars\, Octave Mandolin\, Oboe) sings tenor\, plays 12-string and 6-string guitar\, octave mandolin\, and oboe. \nKris Yenney (Cello\, Nyckelharpa\, Hardanger cello d’Amore\, Vocals\, Percussion) is a cellist\, conductor\, composer\, teacher and impresario. \nDo these names sound familiar? Margaret and Kristoph are also members of Avalon Rising\, a unique blend of psychedelic original rock\, Celtic and Medieval music. \nPurchase Advance Tickets Online\nThe concert will be Dec 6 at 7:30 PM at Knox Presbyterian Church. Now available on Eventbrite\, advance tickets including fees are $33.85 for Adults and $12.51 for Caltech Students and Youth through High School.  Click here to purchase tickets.  \nOnce an event sells out\, Eventbrite has a waitlist function. If tickets become available due to cancellations or returns\, you will be notified by email. \nTicket Sales At the Door\nAfter the presale remaining tickets will be sold at the door – cash or check only. Adults will be $35 and Caltech students or Youth tickets $10\, both with no handling fee. Our box office will open at 6:45 PM. \n\n\n\n Pets and emotional support animals Are NOT ALLOWED\, no exceptions.  Registered Service animals are allowed under the Americans with Disabilities Act. If you plan to bring a registered service animal\, please notify us in advance at info@pasadenafolkmusicsociety.org\n\n\n\nParking\nKnox Church is located at 225 S. Hill in Pasadena\, at the intersection of Hill Ave. and Del Mar Blvd. Full information is available at this link. \nArtist Social Media\nFind Brocelïande’s music here:  flowinglass.com/broceliande-store\nWebsite:  www.broceliande.org/\nFacebook:  www.facebook.com/people/Broceliande/100063538483833/ \nWant First Notice of Our Events? Follow us on Eventbrite to be notified as soon as tickets go on sale for all future concerts. \nWant a Quick Summary of Events? Follow us on Linktr.ee
URL:https://pasadenafolkmusicsociety.org/event/a-joyful-seasonal-concert-featuring-broceliande-on-dec-6th/
LOCATION:Knox Presbyterian Church\, 225 S. Hill Ave.\, Pasadena\, CA\, 91106\, United States
CATEGORIES:British Isles,Celtic,Medieval,Renaissance
ATTACH;FMTTYPE=image/jpeg:https://pasadenafolkmusicsociety.org/wp-content/uploads/2025/08/Broceliande-Press-Photo-scaled-e1758563263971.jpg
END:VEVENT
END:VCALENDAR