BEGIN:VCALENDAR
VERSION:2.0
PRODID:-//Pasadena Folk Music Society - ECPv6.15.20//NONSGML v1.0//EN
CALSCALE:GREGORIAN
METHOD:PUBLISH
X-ORIGINAL-URL:https://pasadenafolkmusicsociety.org
X-WR-CALDESC:Events for Pasadena Folk Music Society
REFRESH-INTERVAL;VALUE=DURATION:PT1H
X-Robots-Tag:noindex
X-PUBLISHED-TTL:PT1H
BEGIN:VTIMEZONE
TZID:America/Los_Angeles
BEGIN:DAYLIGHT
TZOFFSETFROM:-0800
TZOFFSETTO:-0700
TZNAME:PDT
DTSTART:20240310T100000
END:DAYLIGHT
BEGIN:STANDARD
TZOFFSETFROM:-0700
TZOFFSETTO:-0800
TZNAME:PST
DTSTART:20241103T090000
END:STANDARD
BEGIN:DAYLIGHT
TZOFFSETFROM:-0800
TZOFFSETTO:-0700
TZNAME:PDT
DTSTART:20250309T100000
END:DAYLIGHT
BEGIN:STANDARD
TZOFFSETFROM:-0700
TZOFFSETTO:-0800
TZNAME:PST
DTSTART:20251102T090000
END:STANDARD
BEGIN:DAYLIGHT
TZOFFSETFROM:-0800
TZOFFSETTO:-0700
TZNAME:PDT
DTSTART:20260308T100000
END:DAYLIGHT
BEGIN:STANDARD
TZOFFSETFROM:-0700
TZOFFSETTO:-0800
TZNAME:PST
DTSTART:20261101T090000
END:STANDARD
END:VTIMEZONE
BEGIN:VEVENT
DTSTART;TZID=America/Los_Angeles:20250301T200000
DTEND;TZID=America/Los_Angeles:20250301T220000
DTSTAMP:20260421T065413
CREATED:20241130T013846Z
LAST-MODIFIED:20250322T023030Z
UID:3938-1740859200-1740866400@pasadenafolkmusicsociety.org
SUMMARY:Téada
DESCRIPTION:The acclaimed musicians of Téada have been playing Irish music around the world for more than 20 years. They have headlined major festivals throughout North America\, Mexico\, Europe\, Africa\, Australia and the Middle East. \nThe band’s founder and fiddler\, Oisin Mac Diarmada\, said this week\, “Folk music has a unique ability to lift the spirits\, while providing an added layer of meaning to many of life’s experiences. As we share our music in Pasadena\, the connection with the suffering experienced by people and place will hopefully bring heightened meaning and solace to us all.” \nTéada\, Irish for “strings”\, consists of fiddle player Oisín Mac Diarmada\, button accordion player Paul Finn\, Damien Stenson on flute\, Seán Mc Elwain switches between bouzouki and guitar\, bodhrán player Tristan Rosenstock\, and Samantha Harvey step dancer and piano. \nWaitlist for Tickets  \nAll Téada tickets have been sold during the presale period\, so no tickets will be available at the door on the night of the concert. Eventbrite has a waitlist function. If tickets become available due to cancellations or returned tickets\, you will be notified. \nAvoid Future Disappointment \nFollow PFMS on Eventbrite. You’ll receive a notification as soon as tickets go on sale for any of our future concerts. \nParking \nFree parking\, including handicap parking\, is available in the lot north of Beckman Auditorium\, off Michigan Avenue just south of Del Mar Boulevard. This lot might fill up\, especially if there are other events on campus that night. You can find additional parking for our shows in two parking structures on Wilson Avenue in the first block south of Del Mar. On weekends and after 6 p.m.\, parking is allowed even in spaces labeled with individual names. On this Caltech campus map\, Beckman Auditorium is #91\, Beckman Institute is #74 and the parking structures are #123 and #124. Also\, street parking is available along Wilson Avenue and some other nearby streets. \n 
URL:https://pasadenafolkmusicsociety.org/event/teada-band/
LOCATION:Beckman Institute Auditorium at Caltech\, 400 S. Wilson Avenue\, Pasadena\, CA\, 91001-1649\, United States
CATEGORIES:Celtic
END:VEVENT
END:VCALENDAR