BEGIN:VCALENDAR
VERSION:2.0
PRODID:-//Pasadena Folk Music Society - ECPv6.15.20//NONSGML v1.0//EN
CALSCALE:GREGORIAN
METHOD:PUBLISH
X-ORIGINAL-URL:https://pasadenafolkmusicsociety.org
X-WR-CALDESC:Events for Pasadena Folk Music Society
REFRESH-INTERVAL;VALUE=DURATION:PT1H
X-Robots-Tag:noindex
X-PUBLISHED-TTL:PT1H
BEGIN:VTIMEZONE
TZID:America/Los_Angeles
BEGIN:DAYLIGHT
TZOFFSETFROM:-0800
TZOFFSETTO:-0700
TZNAME:PDT
DTSTART:20240310T100000
END:DAYLIGHT
BEGIN:STANDARD
TZOFFSETFROM:-0700
TZOFFSETTO:-0800
TZNAME:PST
DTSTART:20241103T090000
END:STANDARD
BEGIN:DAYLIGHT
TZOFFSETFROM:-0800
TZOFFSETTO:-0700
TZNAME:PDT
DTSTART:20250309T100000
END:DAYLIGHT
BEGIN:STANDARD
TZOFFSETFROM:-0700
TZOFFSETTO:-0800
TZNAME:PST
DTSTART:20251102T090000
END:STANDARD
BEGIN:DAYLIGHT
TZOFFSETFROM:-0800
TZOFFSETTO:-0700
TZNAME:PDT
DTSTART:20260308T100000
END:DAYLIGHT
BEGIN:STANDARD
TZOFFSETFROM:-0700
TZOFFSETTO:-0800
TZNAME:PST
DTSTART:20261101T090000
END:STANDARD
END:VTIMEZONE
BEGIN:VEVENT
DTSTART;TZID=America/Los_Angeles:20250920T193000
DTEND;TZID=America/Los_Angeles:20250920T220000
DTSTAMP:20260419T134943
CREATED:20250707T234641Z
LAST-MODIFIED:20250805T211709Z
UID:4517-1758396600-1758405600@pasadenafolkmusicsociety.org
SUMMARY:New Artist Series: Joselyn & Don and The Odd Birds in a Shared Concert Sep 20th
DESCRIPTION:Welcome to our New Artist Series with Joselyn & Don and The Odd Birds in a shared concert! \nAbout Joselyn & Don\nLive Reviews “Joselyn & Don are a talented\, authentic and fresh folk music voice.”- Grand Annex Music Hall \n“Joselyn led with her amazing voice\, on this night\, beginning with her ukulele and later on the congas. Don\, as a calming base\, held everything down on guitar — acoustic and electric and backup vocals. [Mai] Leisz’s articulate bass and [Jim} McGrath’s smooth percussion amplified the deep sonic ambiance of the room.”- Melina Paris\, Angel City Culture Quest \n“Not only did the audience love Joselyn & Don and their music\, but they were such a joy for staff and techs to work with. In addition\, they did a songwriting workshop which was very well attended and the participants gave very enthusiastic reviews. I highly recommend Joselyn & Don for inclusion in any series.”- Christian Wolf\, Executive Director\, The Torrance Cultural Arts Foundation. \n \nAbout The Odd Birds\n“[The Odd Birds] exhibit powerfully emotive songwriting coupled to masterfully shared lead vocals and harmonies\, making every track bristle with colorful clarity. […] Every track on Tremolo Heart is an aural pleasure from the well penned lyrics to the luring vocal command and stalwart instrumentation. […] An outstanding album!” –Brian M. Owens\, Metronome Magazine (Boston) (print) \n“Charming Country Rock That Could Be From Townes Van Zandt’s Front Porch.” “[The] couple haven’t totally strayed away from their Folk roots; but the welcome addition of occasional electric guitar and buoyant melodies means to me that the finished article is genuinely genre-bending as the couple and their enigmatic producer Bobbo Byrnes\, add smidgens of Country\, Americana and especially Country Rock to the recipe and the end result is very easy on the ear.”–The Rocking Magpie \n \nPurchase Advance Tickets Online\nThe concert will be Sep 20 at 7:30 pm at Knox Presbyterian Church. Doors will open about 6:45 pm (after the sound check). Advance tickets including fees\, are now available on Eventbrite for $28.52 for Adults and $12.51 for Caltech Students and Youth through High School.  Click here to purchase tickets.  \nOnce an event sells out\, Eventbrite has a waitlist function. If tickets become available due to cancellations or returns\, you will be notified by email. \nReceive Immediate Notice of Ticket Sales: Follow PFMS on Eventbrite. You’ll be notified as soon as tickets go on sale for any of our future concerts. \nTicket Sales At the Door\nTickets remaining after the presale will be available at the door the night of the concert cash or check only. Adults will be $25 and Caltech students or Youth tickets $10\, both with no handling fee. \n\n\n\n Pets and emotional support animals Are NOT ALLOWED\, no exceptions.  Registered Service animals are allowed under the Americans with Disabilities Act. If you plan to bring a registered service animal\, please notify us in advance at info@pasadenafolkmusicsociety.org\n\n\n\nParking\nKnox Church is located at 225 S. Hill in Pasadena\, at the intersection of Hill Ave. and Del Mar Blvd. Full information on parking is available at this link. \nLinktr.ee\nLooking for a quick summary of our events? Then follow us on Linktr.ee
URL:https://pasadenafolkmusicsociety.org/event/new-artist-series-joselyn-don-and-the-odd-birds-in-a-shared-concert-sept-20th/
LOCATION:Knox Presbyterian Church\, 225 S. Hill Ave.\, Pasadena\, CA\, 91106\, United States
CATEGORIES:Country,Country Rock,Folk Music
END:VEVENT
END:VCALENDAR