BEGIN:VCALENDAR
VERSION:2.0
PRODID:-//Pasadena Folk Music Society - ECPv6.15.20//NONSGML v1.0//EN
CALSCALE:GREGORIAN
METHOD:PUBLISH
X-ORIGINAL-URL:https://pasadenafolkmusicsociety.org
X-WR-CALDESC:Events for Pasadena Folk Music Society
REFRESH-INTERVAL;VALUE=DURATION:PT1H
X-Robots-Tag:noindex
X-PUBLISHED-TTL:PT1H
BEGIN:VTIMEZONE
TZID:America/Los_Angeles
BEGIN:DAYLIGHT
TZOFFSETFROM:-0800
TZOFFSETTO:-0700
TZNAME:PDT
DTSTART:20240310T100000
END:DAYLIGHT
BEGIN:STANDARD
TZOFFSETFROM:-0700
TZOFFSETTO:-0800
TZNAME:PST
DTSTART:20241103T090000
END:STANDARD
BEGIN:DAYLIGHT
TZOFFSETFROM:-0800
TZOFFSETTO:-0700
TZNAME:PDT
DTSTART:20250309T100000
END:DAYLIGHT
BEGIN:STANDARD
TZOFFSETFROM:-0700
TZOFFSETTO:-0800
TZNAME:PST
DTSTART:20251102T090000
END:STANDARD
BEGIN:DAYLIGHT
TZOFFSETFROM:-0800
TZOFFSETTO:-0700
TZNAME:PDT
DTSTART:20260308T100000
END:DAYLIGHT
BEGIN:STANDARD
TZOFFSETFROM:-0700
TZOFFSETTO:-0800
TZNAME:PST
DTSTART:20261101T090000
END:STANDARD
END:VTIMEZONE
BEGIN:VEVENT
DTSTART;TZID=America/Los_Angeles:20251018T200000
DTEND;TZID=America/Los_Angeles:20251018T220000
DTSTAMP:20260421T135509
CREATED:20250502T003110Z
LAST-MODIFIED:20251018T143536Z
UID:4426-1760817600-1760824800@pasadenafolkmusicsociety.org
SUMMARY:The Great Andy Irvine Will Join Us Oct 18\, 2025
DESCRIPTION:Andy Irvine is one of the great Irish singers\, his voice one of a handful of truly great ones that gets to the very soul of Ireland. He has been hailed as “a tradition in himself”. \nMusician\, singer\, songwriter\, Andy has maintained his highly individual performing skills throughout his over 60-year career. \nAndy has been at the helm of legendary bands like Sweeney’s Men in the mid 60s\, to the enormous success of Planxty in the 70s\, and then Patrick Street\, Mozaik\, LAPD and recently Usher’s Island. Andy has been a world music pioneer and an icon for traditional music and musicians. See the full list of his recordings here. \nAs a soloist\, Andy fills the role of the archetypal troubadour with a show and a travelling lifestyle that reflect his lifelong influence\, Woody Guthrie. To quote the Irish Times\, “Often copied\, never equalled”\, his repertoire consists of Irish traditional songs\, dexterous Balkan dance tunes and a compelling canon of his own self-penned songs. \nAndy plays a range of instruments including bouzoukis (part of the Oud family\, a mix of guitar and bass)\, mandolas\, and mandolins\, and a “bassouki” (a regular bouzouki restrung and tuned to CGDG). \n \nUpdated October 18th\, 7:30 AM\, Tickets Available at the Door!  Online sales have ended.    \nWe will have 41 tickets available to sell at the door this evening\, and it’s first come\, first served.    Click here for parking information and location of the hall.  \n$40 for adults\, and $10 for Caltech Students and Youth through High School \nWe only accept cash or checks for tickets sold at the door. \n\n\n\n Pets and emotional support animals Are NOT ALLOWED\, no exceptions.  Registered Service animals are allowed under the Americans with Disabilities Act. If you plan to bring a registered service animal\, please notify us in advance at info@pasadenafolkmusicsociety.org\n\n\n\nReceive Immediate Notice of Ticket Sales: Follow PFMS on Eventbrite. You’ll be notified as soon as tickets go on sale for any of our future concerts. \nParking\nFree parking\, including handicap parking\, is available in the lot north of Beckman Auditorium\, off Michigan Avenue just south of Del Mar Boulevard.  You can find additional parking  in two parking structures on Wilson Avenue in the first block south of Del Mar. On weekends and after 6 p.m.\, parking is allowed even in spaces labeled with individual names. On this Caltech campus map\, Beckman Auditorium is #91\, Beckman Institute is #74 and the parking structures are #123 and #124. Also\, street parking is available along Wilson Avenue and some other nearby streets.
URL:https://pasadenafolkmusicsociety.org/event/andy-irvine-oct-2025/
LOCATION:Beckman Institute Auditorium at Caltech\, 400 S. Wilson Avenue\, Pasadena\, CA\, 91001-1649\, United States
CATEGORIES:Irish
ATTACH;FMTTYPE=image/jpeg:https://pasadenafolkmusicsociety.org/wp-content/uploads/2025/03/AndyIrvine_guitar-scaled.jpg
END:VEVENT
END:VCALENDAR