BEGIN:VCALENDAR
VERSION:2.0
PRODID:-//Pasadena Folk Music Society - ECPv6.15.20//NONSGML v1.0//EN
CALSCALE:GREGORIAN
METHOD:PUBLISH
X-ORIGINAL-URL:https://pasadenafolkmusicsociety.org
X-WR-CALDESC:Events for Pasadena Folk Music Society
REFRESH-INTERVAL;VALUE=DURATION:PT1H
X-Robots-Tag:noindex
X-PUBLISHED-TTL:PT1H
BEGIN:VTIMEZONE
TZID:America/Los_Angeles
BEGIN:DAYLIGHT
TZOFFSETFROM:-0800
TZOFFSETTO:-0700
TZNAME:PDT
DTSTART:20250309T100000
END:DAYLIGHT
BEGIN:STANDARD
TZOFFSETFROM:-0700
TZOFFSETTO:-0800
TZNAME:PST
DTSTART:20251102T090000
END:STANDARD
BEGIN:DAYLIGHT
TZOFFSETFROM:-0800
TZOFFSETTO:-0700
TZNAME:PDT
DTSTART:20260308T100000
END:DAYLIGHT
BEGIN:STANDARD
TZOFFSETFROM:-0700
TZOFFSETTO:-0800
TZNAME:PST
DTSTART:20261101T090000
END:STANDARD
BEGIN:DAYLIGHT
TZOFFSETFROM:-0800
TZOFFSETTO:-0700
TZNAME:PDT
DTSTART:20270314T100000
END:DAYLIGHT
BEGIN:STANDARD
TZOFFSETFROM:-0700
TZOFFSETTO:-0800
TZNAME:PST
DTSTART:20271107T090000
END:STANDARD
END:VTIMEZONE
BEGIN:VEVENT
DTSTART;TZID=America/Los_Angeles:20261031T193000
DTEND;TZID=America/Los_Angeles:20261031T220000
DTSTAMP:20260422T145820
CREATED:20260304T000847Z
LAST-MODIFIED:20260327T003619Z
UID:5325-1793475000-1793484000@pasadenafolkmusicsociety.org
SUMMARY:Save Oct 31 for Fiddler/Step Dancer April Verch with Singer/Musician Joe Newberry
DESCRIPTION:Details are being finalized\, so stay tuned! \nBest known for her deep expertise in the distinctive Ottawa Valley fiddle and step dancing styles\, there is far more to April’s story. Be it regional Canadian roots\, American old-time\, 50’s Country\, Scandinavian folk music\, or something original that sounds as though it’s been around for a century—the one common thread is her love and reverence for the music and traditions that have been passed down to her. \nApril’s diverse repertoire and unbridled passion come to life on stage with a presence that is versatile\, robust\, and masterfully executed. Audiences remark at her sincerity in sharing stories between tunes. Her delicate voice\, energetic footwork\, sand paper foot percussion and stunning playing (sometimes combined all at once!) are jaw-dropping. Her ability to preserve the authentic folk traditions of the past and reintroduce them into the musical landscape of the present is a testament to her expert musicianship and widespread appeal. \nEnjoy April’s music and step dance performances on her youtube channel.
URL:https://pasadenafolkmusicsociety.org/event/april-verch-oct-31st/
ATTACH;FMTTYPE=image/jpeg:https://pasadenafolkmusicsociety.org/wp-content/uploads/2026/03/April-Verch-outdoor-Sandlin-Gaither-1620x1080-1.jpg
END:VEVENT
BEGIN:VEVENT
DTSTART;TZID=America/Los_Angeles:20261114T193000
DTEND;TZID=America/Los_Angeles:20261114T220000
DTSTAMP:20260422T145820
CREATED:20260224T110536Z
LAST-MODIFIED:20260327T003659Z
UID:5309-1794684600-1794693600@pasadenafolkmusicsociety.org
SUMMARY:Save Nov 14 for Scotland’s Great Tannahill Weavers
DESCRIPTION:The Tannahill Weavers are one of Scotland’s premier traditional bands – now in their 57th year\, their diverse repertoire spans the centuries with fire-driven instrumentals and songs\, original ballads and lullabies\, and humorous tales of life in Scotland. Their music demonstrates to old and young alike the rich and varied musical heritage of the Celtic people. These versatile musicians have received worldwide accolades consistently over the years for their exuberant performances and outstanding recording efforts that seemingly can’t get better…yet continue to do just that. \n“…their great humour and superb musicianship make them one of the finest bands on the circuit.” – Rogue Folk Review \n“The music may be pure old time Celtic\, but the drive and enthusiasm are akin to straight ahead rock and roll.” – Winnipeg Free Press \nOver the years the Tannies have been trailblazers for Scottish music\, and their tight harmonies and powerful\, inventive arrangements have won them fans from beyond the folk and Celtic music scenes. In 2011 the band was inducted into the Scottish Traditional Music Hall of Fame\, and in 2018 they released their highly acclaimed 50th Anniversary album Òrach (“Golden” in Gaelic) on award-winning label Compass Records. \nTheir most recent release\, Solstice\, has won high praises even from sources outside the usual folk scene. \n \nDetails are being finalized\, so stay tuned!
URL:https://pasadenafolkmusicsociety.org/event/tannahill-weavers-nov-14/
ATTACH;FMTTYPE=image/webp:https://pasadenafolkmusicsociety.org/wp-content/uploads/2026/02/Tannahill-Weavers.webp
END:VEVENT
END:VCALENDAR