BEGIN:VCALENDAR
VERSION:2.0
PRODID:-//Pasadena Folk Music Society - ECPv6.15.20//NONSGML v1.0//EN
CALSCALE:GREGORIAN
METHOD:PUBLISH
X-WR-CALNAME:Pasadena Folk Music Society
X-ORIGINAL-URL:https://pasadenafolkmusicsociety.org
X-WR-CALDESC:Events for Pasadena Folk Music Society
REFRESH-INTERVAL;VALUE=DURATION:PT1H
X-Robots-Tag:noindex
X-PUBLISHED-TTL:PT1H
BEGIN:VTIMEZONE
TZID:America/Los_Angeles
BEGIN:DAYLIGHT
TZOFFSETFROM:-0800
TZOFFSETTO:-0700
TZNAME:PDT
DTSTART:20220313T100000
END:DAYLIGHT
BEGIN:STANDARD
TZOFFSETFROM:-0700
TZOFFSETTO:-0800
TZNAME:PST
DTSTART:20221106T090000
END:STANDARD
BEGIN:DAYLIGHT
TZOFFSETFROM:-0800
TZOFFSETTO:-0700
TZNAME:PDT
DTSTART:20230312T100000
END:DAYLIGHT
BEGIN:STANDARD
TZOFFSETFROM:-0700
TZOFFSETTO:-0800
TZNAME:PST
DTSTART:20231105T090000
END:STANDARD
BEGIN:DAYLIGHT
TZOFFSETFROM:-0800
TZOFFSETTO:-0700
TZNAME:PDT
DTSTART:20240310T100000
END:DAYLIGHT
BEGIN:STANDARD
TZOFFSETFROM:-0700
TZOFFSETTO:-0800
TZNAME:PST
DTSTART:20241103T090000
END:STANDARD
END:VTIMEZONE
BEGIN:VEVENT
DTSTART;TZID=America/Los_Angeles:20230416T160000
DTEND;TZID=America/Los_Angeles:20230416T180000
DTSTAMP:20260420T051317
CREATED:20230704T083338Z
LAST-MODIFIED:20230704T083338Z
UID:3021-1681660800-1681668000@pasadenafolkmusicsociety.org
SUMMARY:John McCutcheon Online Hammered Dulcimer Concert Sunday\, April 16
DESCRIPTION:Of his many musical talents\, John McCutcheon’s mastery of the hammered dulcimer may stand out as most surprising.  Few other players anywhere can draw the shimmer\, bounce and harmonies out of this percussive stringed instrument as well as he does.  Treat yourself to his “Hammer Dulcimer!” online concert on Sunday\, April 16\, and hear the range of music he plays. \nAs appetizers\, check out McCutcheon’s Leviathan or his medley of Loggerman’s Breakdown and Dulcimer Reel.  Use caution; you might suddenly get up and dance. \nThe April 16 online show will begin at 4 p.m. Pacific Time.  A ticket also gives you unlimited replays within 48 hours after the live show. This could be handy if a later time is more convenient or if you want to hear some particularly dazzling tunes again. \nGet tickets at links from this page.  Standard price is $20 plus a $4.60 processing fee.  Other options in the drop-down menu are discounts for students or unemployed people and premiums for a family/household ticket or music supporter ticket.  A bit of the ticket money goes to the Pasadena Folk Music Society\, which will help us present in-person shows in future months.
URL:https://pasadenafolkmusicsociety.org/event/john-mccutcheon-online-hammered-dulcimer-concert-sunday-april-16/
LOCATION:Online
CATEGORIES:American Folk Music
END:VEVENT
END:VCALENDAR