BEGIN:VCALENDAR
VERSION:2.0
PRODID:-//Pasadena Folk Music Society - ECPv6.15.20//NONSGML v1.0//EN
CALSCALE:GREGORIAN
METHOD:PUBLISH
X-WR-CALNAME:Pasadena Folk Music Society
X-ORIGINAL-URL:https://pasadenafolkmusicsociety.org
X-WR-CALDESC:Events for Pasadena Folk Music Society
REFRESH-INTERVAL;VALUE=DURATION:PT1H
X-Robots-Tag:noindex
X-PUBLISHED-TTL:PT1H
BEGIN:VTIMEZONE
TZID:America/Los_Angeles
BEGIN:DAYLIGHT
TZOFFSETFROM:-0800
TZOFFSETTO:-0700
TZNAME:PDT
DTSTART:20230312T100000
END:DAYLIGHT
BEGIN:STANDARD
TZOFFSETFROM:-0700
TZOFFSETTO:-0800
TZNAME:PST
DTSTART:20231105T090000
END:STANDARD
BEGIN:DAYLIGHT
TZOFFSETFROM:-0800
TZOFFSETTO:-0700
TZNAME:PDT
DTSTART:20240310T100000
END:DAYLIGHT
BEGIN:STANDARD
TZOFFSETFROM:-0700
TZOFFSETTO:-0800
TZNAME:PST
DTSTART:20241103T090000
END:STANDARD
BEGIN:DAYLIGHT
TZOFFSETFROM:-0800
TZOFFSETTO:-0700
TZNAME:PDT
DTSTART:20250309T100000
END:DAYLIGHT
BEGIN:STANDARD
TZOFFSETFROM:-0700
TZOFFSETTO:-0800
TZNAME:PST
DTSTART:20251102T090000
END:STANDARD
END:VTIMEZONE
BEGIN:VEVENT
DTSTART;TZID=America/Los_Angeles:20240127T200000
DTEND;TZID=America/Los_Angeles:20240127T200000
DTSTAMP:20260421T014734
CREATED:20231208T005042Z
LAST-MODIFIED:20231217T020855Z
UID:3196-1706385600-1706385600@pasadenafolkmusicsociety.org
SUMMARY:Jim and Susie Malcolm
DESCRIPTION:Traveling the world with his guitar\, harmonicas\, and engaging wit\, he sings the traditional songs of Scotland and his own masterfully crafted songs in a style which is modern and accessible\, yet utterly authentic. He is highly regarded as an interpreter of the songs of Robert Burns\, and has been described as “one of the finest singers in Scotland in\nany style”. \nThough he now works solo\, Jim was lead singer with the world‐ renowned and multi‐award‐winning Old Blind Dogs for eight years\, a fantastic experience with some of Scotland’s finest musicians\, taking him to the most prestigious festivals in North America and all over Europe. \nWith family roots in Perthshire and Strathclyde\, Jim has been a professional musician since graduating from Edinburgh University. His first arena was the folk music scene in Scotland\, where he gigged in almost every town and isle from Berwick to Benbecula and from Stranraer to Lerwick. Working solo or in various bands and combos in far flung pubs\, hotels and clubs toughened him up for a future life on the road. Solo tours in England\, Ireland\, Denmark and Germany followed\, including musical adventures in some off‐the‐\ncharts places like Uganda. \nThe list of artists who have performed and recorded his work is steadily growing\, but includes Kate Rusby with The Poozies\, Beppe Gambetta from Italy\, Uiscedwr\, The McCalmans\, Alyth McCormack\, North Sea Gas and Tich Frier. In 2004 he was voted songwriter of the year at the annual Scots Trad Music Awards and to date he is the most nominated Scots singer for the Scots Singer of the Year Award\, having been nominated three times. \nSusie Malcolm is an award-winning singer with a special knowledge of the musical traditions of North East Scotland. She was the first woman ever to win a singing competition for Bothy Ballads\, agricultural songs\, and has been singing in folk clubs and at festivals around Scotland since her early 20s. She has one solo CD to her credit and has sung harmonies on ten of Jim’s CDs. \nPurchase Advance Tickets Online and By Phone\n\nTickets are $25 each plus a $4 convenience fee or $10 for Caltech students and anyone age 16 or younger without the fee. They are available online at this link and by phone from the Caltech Ticket Office (626-395-4652). Ticket office hours are 10 a.m. to 2 p.m. Tuesdays through Fridays. Tickets are available\, without a handling fee\, by in-person purchase at the ticket office on the first floor of Caltech’s Keith Spalding Building\, at 1200 East California Boulevard in Pasadena. \n \nTicket Sales At the Door\n\nTickets might be available at the door the night of the concert. HOWEVER\, our last show sold out\, so some people who arrived without tickets could not attend. Sales at the door\, if tickets remain available\, will be by cash or check only\, with no handling fee. \nParking\nFree parking\, including handicap parking\, is available in the lot north of Beckman Auditorium\, off Michigan Avenue just south of Del Mar Boulevard. This lot might fill up\, especially if there are other events on campus that night. You can find additional parking for our shows in two parking structures on Wilson Avenue in the first block south of Del Mar. On weekends and after 6 p.m.\, parking is allowed even in spaces labeled with individual names. On this Caltech campus map\, Beckman Auditorium is #91\, Beckman Institute is #74 and the parking structures are #123 and #124. Also\, street parking is available along Wilson Avenue and some other nearby streets.
URL:https://pasadenafolkmusicsociety.org/event/jim-and-susie-malcolm-at-beckman-institute-jan-27-2024/
LOCATION:Beckman Institute Auditorium at Caltech\, 400 S. Wilson Avenue\, Pasadena\, CA\, 91001-1649\, United States
CATEGORIES:Scottish Traditional
ATTACH;FMTTYPE=image/png:https://pasadenafolkmusicsociety.org/wp-content/uploads/2023/12/Jim-and-Susie-Malcolm-777x437-1.png
END:VEVENT
END:VCALENDAR