BEGIN:VCALENDAR
VERSION:2.0
PRODID:-//Pasadena Folk Music Society - ECPv6.15.20//NONSGML v1.0//EN
CALSCALE:GREGORIAN
METHOD:PUBLISH
X-ORIGINAL-URL:https://pasadenafolkmusicsociety.org
X-WR-CALDESC:Events for Pasadena Folk Music Society
REFRESH-INTERVAL;VALUE=DURATION:PT1H
X-Robots-Tag:noindex
X-PUBLISHED-TTL:PT1H
BEGIN:VTIMEZONE
TZID:America/Los_Angeles
BEGIN:DAYLIGHT
TZOFFSETFROM:-0800
TZOFFSETTO:-0700
TZNAME:PDT
DTSTART:20230312T100000
END:DAYLIGHT
BEGIN:STANDARD
TZOFFSETFROM:-0700
TZOFFSETTO:-0800
TZNAME:PST
DTSTART:20231105T090000
END:STANDARD
BEGIN:DAYLIGHT
TZOFFSETFROM:-0800
TZOFFSETTO:-0700
TZNAME:PDT
DTSTART:20240310T100000
END:DAYLIGHT
BEGIN:STANDARD
TZOFFSETFROM:-0700
TZOFFSETTO:-0800
TZNAME:PST
DTSTART:20241103T090000
END:STANDARD
BEGIN:DAYLIGHT
TZOFFSETFROM:-0800
TZOFFSETTO:-0700
TZNAME:PDT
DTSTART:20250309T100000
END:DAYLIGHT
BEGIN:STANDARD
TZOFFSETFROM:-0700
TZOFFSETTO:-0800
TZNAME:PST
DTSTART:20251102T090000
END:STANDARD
END:VTIMEZONE
BEGIN:VEVENT
DTSTART;TZID=America/Los_Angeles:20241116T193000
DTEND;TZID=America/Los_Angeles:20241116T220000
DTSTAMP:20260424T151941
CREATED:20240923T231850Z
LAST-MODIFIED:20250322T023059Z
UID:3772-1731785400-1731794400@pasadenafolkmusicsociety.org
SUMMARY:Kathy Kallick Band
DESCRIPTION:The Pasadena Folk Music Society is proud to present one of the best California bluegrass bands on the West Coast\, the Kathy Kallick Band.  Long based in the Bay area\, this group matches the distinctive voice\, guitar\,  and songwriting skills of Kathy Kallick with 4 other amazing musicians\, Annie Staninec (fiddle)\, Greg Booth (dobro & banjo)\, Tom Bekeny (mandolin)\, and Cary Black  (acoustic bass)\, all of whom provide sterling harmonies.  Along with great original songs\, they perform folk\, country\, and bluegrass standards\, and instrumentals\, along with some other familiar songs.  They performed in our series in 2015. Kathy also did a show here with Laurie Lewis\, her longtime friend and fellow co-founder of the Good Ol’ Persons.  The Kathy Kallick Band’s music is upbeat\, energetic\, and traditional\, all at the same time\, and has a lot of heart.  They do some sad songs\, too.  A few examples of their style include Kathy’s song Foxhounds; the instrumental Lonesome Dobro Blues\, a  tune by Greg Booth\, showcasing their great instrumental prowess; and their version of the Osborne Brothers’ There’s a Higher Power. \n \nNote that this show only is at a different location  (a few blocks away) and starts a half hour earlier at 7:30 PM\,  doors open at 7:00 PM. \nThe concert is Saturday\, November 16 at Knox Presbyterian Church\, 225 S. Hill Ave.\, Pasadena\, several blocks from Caltech.  Knox Presbyterian Church has a parking lot and nearby street parking. A map with suggested parking places is provided at this link. There will be a few handicap parking spaces available at Knox. Pasadena City College is right across the street\, but they will likely close their lot before our show is over; so we don’t advise parking there. \nAdvanced tickets can be purchased here. Tickets are $25 and $10 for Caltech students and children 16 years and under.  A $4 service charge per ticket applies to online orders  and phone purchases (1-626-395-4652) through the Caltech Ticket Office. There is no service charge for tickets purchased in person at the ticket office in the Keith Spalding Building at 1200 California Blvd. It is open from 10 a.m. to 4 p.m. Mondays through Fridays. Tickets will be available for purchase at the door the night of the concert. \nNote: If you purchased tickets for the August show\, Your credit card should have been credited for the full purchase price. If you have questions about this\, call the Ticket Office.
URL:https://pasadenafolkmusicsociety.org/event/kathy-kallick-band-20231116/
LOCATION:Knox Presbyterian Church\, 225 S. Hill Ave.\, Pasadena\, CA\, 91106\, United States
END:VEVENT
END:VCALENDAR