BEGIN:VCALENDAR
VERSION:2.0
PRODID:-//Pasadena Folk Music Society - ECPv6.15.20//NONSGML v1.0//EN
CALSCALE:GREGORIAN
METHOD:PUBLISH
X-WR-CALNAME:Pasadena Folk Music Society
X-ORIGINAL-URL:https://pasadenafolkmusicsociety.org
X-WR-CALDESC:Events for Pasadena Folk Music Society
REFRESH-INTERVAL;VALUE=DURATION:PT1H
X-Robots-Tag:noindex
X-PUBLISHED-TTL:PT1H
BEGIN:VTIMEZONE
TZID:America/Los_Angeles
BEGIN:DAYLIGHT
TZOFFSETFROM:-0800
TZOFFSETTO:-0700
TZNAME:PDT
DTSTART:20240310T100000
END:DAYLIGHT
BEGIN:STANDARD
TZOFFSETFROM:-0700
TZOFFSETTO:-0800
TZNAME:PST
DTSTART:20241103T090000
END:STANDARD
BEGIN:DAYLIGHT
TZOFFSETFROM:-0800
TZOFFSETTO:-0700
TZNAME:PDT
DTSTART:20250309T100000
END:DAYLIGHT
BEGIN:STANDARD
TZOFFSETFROM:-0700
TZOFFSETTO:-0800
TZNAME:PST
DTSTART:20251102T090000
END:STANDARD
BEGIN:DAYLIGHT
TZOFFSETFROM:-0800
TZOFFSETTO:-0700
TZNAME:PDT
DTSTART:20260308T100000
END:DAYLIGHT
BEGIN:STANDARD
TZOFFSETFROM:-0700
TZOFFSETTO:-0800
TZNAME:PST
DTSTART:20261101T090000
END:STANDARD
END:VTIMEZONE
BEGIN:VEVENT
DTSTART;TZID=America/Los_Angeles:20250726T200000
DTEND;TZID=America/Los_Angeles:20250726T220000
DTSTAMP:20260424T005926
CREATED:20250502T002412Z
LAST-MODIFIED:20250715T013454Z
UID:4369-1753560000-1753567200@pasadenafolkmusicsociety.org
SUMMARY:New Artists Series: Folk Americana Duo Tipps and Obermiller on Jul 26
DESCRIPTION:Tight vocal and guitar harmonies\, folksy wisdom and unabashed emotional vocabulary combine with craft and charisma to create this unexpectedly magnetic experience. \nFolk or Americana? Tipps and Obermiller are not genre-specific songwriters. Just as they write about every aspect of life and living\, they use every style of music to suit the song at hand. In doing so\, they take the listener on a ride that will just as easily make you laugh and cry as shake your tail feather! \nHilary Tipps and Steve Obermiller\, a dynamic musical duo\, have captivated audiences with their heartfelt songwriting and emotive performances. Their 2024 release “MacGuffin” showcases songs co-written by the pair\, following the success of their 2023 debut album\, “Love (and Other Mysteries)”. \nEnjoy their full range of music at: website\, SoundCloud\, Spotify\, and Youtube. \n \n\n\n\nPurchase Advance Tickets Online\nThe concert will be July 26 at 8 pm at the Beckman Institute Auditorium. Doors will open at 7:15 pm. Advance tickets\, including fees\, are now available on Eventbrite for $28.52 for Adults and $12.51 for Caltech Students and Youth through High School.  Click here to purchase tickets.  \nOnce an event sells out\, Eventbrite has a waitlist function. If tickets become available due to cancellations or returns\, you will be notified by email. \n\n\n\n Pets Are NOT ALLOWED!  We’re sorry\, but absolutely no pets – no exceptions.  Registered Service animals are allowed under the Americans with Disabilities Act. If you plan to bring a registered service animal\, please notify us in advance at info@pasadenafolkmusicsociety.org. \n\n\n\nTicket Sales At the Door\nIf tickets remain after the presale\, adult tickets will be available at the door for $25 and Caltech student or Youth tickets for $10\, both with no handling fee (cash or check only). Our box office will open at 7:15 pm. \nReceive Immediate Notice of Ticket Sales: Follow PFMS on Eventbrite. You’ll be notified as soon as tickets go on sale for any of our future concerts. \nParking\nFree parking\, including handicap parking\, is available in the lot north of Beckman Auditorium\, off Michigan Avenue just south of Del Mar Boulevard. You can find additional parking for our shows in two parking structures on Wilson Avenue in the first block south of Del Mar.  Full information on parking is available at this link.
URL:https://pasadenafolkmusicsociety.org/event/tipps-obermiller-jul-26/
LOCATION:Beckman Institute Auditorium at Caltech\, 400 S. Wilson Avenue\, Pasadena\, CA\, 91001-1649\, United States
CATEGORIES:American Folk Music
ATTACH;FMTTYPE=image/avif:https://pasadenafolkmusicsociety.org/wp-content/uploads/2025/03/hilary-tipps-steve-obermiller.avif
END:VEVENT
END:VCALENDAR